BEGIN:VCALENDAR
VERSION:2.0
PRODID:-//Tukios.com/
BEGIN:VEVENT
UID:c2161eaa-f275-4210-b722-7ec8a686e5cd@www.memorialutah.com
DTSTAMP:20260421T225051Z
DTSTART:20260503T160000Z
DTEND:20260503T180000Z
SUMMARY:Memorial Service
DESCRIPTION:
URL:https://www.memorialutah.com/obituaries/angeleno-paul-montoya
LOCATION:Lake Hills Memorial 10055 South State Street  Sandy UT 84070
GEO:40.5683863;-111.8900845
END:VEVENT
END:VCALENDAR