BEGIN:VCALENDAR
VERSION:2.0
PRODID:-//Tukios.com/
BEGIN:VEVENT
UID:ecd3cbff-a0e6-4f8d-bb08-57aed91f2b14@www.memorialutah.com
DTSTAMP:20260421T005552Z
DTSTART:20260425T200000Z
DTEND:20260425T210000Z
SUMMARY:Graveside Service
DESCRIPTION:
URL:https://www.memorialutah.com/obituaries/bruce-despain
LOCATION: 3115 Bengal Blvd  Cottonwood Heights UT 84121
GEO:40.6095857;-111.8053171
END:VEVENT
END:VCALENDAR