BEGIN:VCALENDAR
VERSION:2.0
PRODID:-//Tukios.com/
BEGIN:VEVENT
UID:96e16816-6f0f-418d-9d88-11e63c0b2dad@www.memorialutah.com
DTSTAMP:20260421T083853Z
DTSTART:20260227T193000Z
DTEND:20260227T203000Z
SUMMARY:Burial
DESCRIPTION:
URL:https://www.memorialutah.com/obituaries/carma-cole-johnson
LOCATION: 3115 Bengal Blvd  Cottonwood Heights UT 84121
GEO:40.6095857;-111.8053171
END:VEVENT
END:VCALENDAR