BEGIN:VCALENDAR
VERSION:2.0
PRODID:-//Tukios.com/
BEGIN:VEVENT
UID:cc7b2795-1dad-4f69-b7b1-9a87952e6c05@www.memorialutah.com
DTSTAMP:20260422T214618Z
DTSTART:20260425T170000Z
DTEND:20260425T180000Z
SUMMARY:Funeral Service
DESCRIPTION:
URL:https://www.memorialutah.com/obituaries/cynthia-thalman
LOCATION:The Church of Jesus Christ of Latter-day Saints 8385 South 4800 
	West  West Jordan UT 84088
GEO:40.5987993;-112.0045431
END:VEVENT
END:VCALENDAR