BEGIN:VCALENDAR
VERSION:2.0
PRODID:-//Tukios.com/
BEGIN:VEVENT
UID:92527a05-a79a-44f5-922b-426563659c39@www.memorialutah.com
DTSTAMP:20260422T214350Z
DTSTART:20260425T150000Z
DTEND:20260425T164500Z
SUMMARY:Viewing
DESCRIPTION:
URL:https://www.memorialutah.com/obituaries/cynthia-thalman
LOCATION:The Church of Jesus Christ of Latter-day Saints 8385 South 4800 
	West  West Jordan UT 84088
GEO:40.5987993;-112.0045431
END:VEVENT
END:VCALENDAR