BEGIN:VCALENDAR
VERSION:2.0
PRODID:-//Tukios.com/
BEGIN:VEVENT
UID:c4173806-2f32-45e9-a2c7-46357630d7e5@www.memorialutah.com
DTSTAMP:20260422T024837Z
DTSTART:20260429T170000Z
DTEND:20260429T180000Z
SUMMARY:Memorial Service
DESCRIPTION:
URL:https://www.memorialutah.com/obituaries/elwin-bagley
LOCATION: 6500 South Redwood Road  West Jordan UT 84123
GEO:40.6328552;-111.9402234
END:VEVENT
END:VCALENDAR