BEGIN:VCALENDAR
VERSION:2.0
PRODID:-//Tukios.com/
BEGIN:VEVENT
UID:85ffe862-549a-46da-853d-4a4bab2ab8ee@www.memorialutah.com
DTSTAMP:20260422T024607Z
DTSTART:20260429T150000Z
DTEND:20260429T170000Z
SUMMARY:Viewing
DESCRIPTION:
URL:https://www.memorialutah.com/obituaries/elwin-bagley
LOCATION: 6500 South Redwood Road  West Jordan UT 84123
GEO:40.6328552;-111.9402234
END:VEVENT
END:VCALENDAR