BEGIN:VCALENDAR
VERSION:2.0
PRODID:-//Tukios.com/
BEGIN:VEVENT
UID:4fcd894f-b2d7-4303-b70e-07cd2581e1f6@www.memorialutah.com
DTSTAMP:20260422T024750Z
DTSTART:20260429T000000Z
DTEND:20260429T020000Z
SUMMARY:Viewing
DESCRIPTION:
URL:https://www.memorialutah.com/obituaries/elwin-bagley
LOCATION: 6500 South Redwood Road  West Jordan UT 84123
GEO:40.6328552;-111.9402234
END:VEVENT
END:VCALENDAR