BEGIN:VCALENDAR
VERSION:2.0
PRODID:-//Tukios.com/
BEGIN:VEVENT
UID:e7cc921f-41c4-4f02-a857-23a4f2d330d8@www.memorialutah.com
DTSTAMP:20260422T013352Z
DTSTART:20260424T010000Z
DTEND:20260424T030000Z
SUMMARY:Viewing
DESCRIPTION:
URL:https://www.memorialutah.com/obituaries/jose-vargas-jr
LOCATION:Viva Church 1055 North Redwood Road  Salt Lake City UT 84116
GEO:40.7923562;-111.9404186
END:VEVENT
END:VCALENDAR