BEGIN:VCALENDAR
VERSION:2.0
PRODID:-//Tukios.com/
BEGIN:VEVENT
UID:350b6098-8b84-433f-8bf1-34c7a3f5796e@www.memorialutah.com
DTSTAMP:20260422T012801Z
DTSTART:20260424T183000Z
DTEND:20260424T193000Z
SUMMARY:Viewing
DESCRIPTION:
URL:https://www.memorialutah.com/obituaries/jose-vargas-jr
LOCATION:Viva Church 1055 North Redwood Road  Salt Lake City UT 84116
GEO:40.7923562;-111.9404186
END:VEVENT
END:VCALENDAR