BEGIN:VCALENDAR
VERSION:2.0
PRODID:-//Tukios.com/
BEGIN:VEVENT
UID:41b10b60-fafe-4e4a-9a30-da467e82a35a@www.memorialutah.com
DTSTAMP:20260422T013154Z
DTSTART:20260424T193000Z
DTEND:20260424T203000Z
SUMMARY:Funeral Service
DESCRIPTION:
URL:https://www.memorialutah.com/obituaries/jose-vargas-jr
LOCATION:Viva Church 1055 Nor  Salt Lake City UT 84116
GEO:40.8328556;-112.0714835
END:VEVENT
END:VCALENDAR