BEGIN:VCALENDAR
VERSION:2.0
PRODID:-//Tukios.com/
BEGIN:VEVENT
UID:a87378e8-3d7f-475e-8eb3-c3f5eb47097c@www.memorialutah.com
DTSTAMP:20260421T010014Z
DTSTART:20260502T180000Z
DTEND:20260502T194500Z
SUMMARY:Viewing
DESCRIPTION:
URL:https://www.memorialutah.com/obituaries/juleen-julee-cruz
LOCATION: 6500 South Redwood Road  West Jordan UT 84123
GEO:40.6328552;-111.9402234
END:VEVENT
END:VCALENDAR