BEGIN:VCALENDAR
VERSION:2.0
PRODID:-//Tukios.com/
BEGIN:VEVENT
UID:9b25b503-f62d-414f-8c02-831bc1dc8e40@www.memorialutah.com
DTSTAMP:20260421T010137Z
DTSTART:20260502T200000Z
DTEND:20260502T210000Z
SUMMARY:Funeral Service
DESCRIPTION:
URL:https://www.memorialutah.com/obituaries/juleen-julee-cruz
LOCATION: 6500 South Redwood Road  West Jordan UT 84123
GEO:40.6328552;-111.9402234
END:VEVENT
END:VCALENDAR