BEGIN:VCALENDAR
VERSION:2.0
PRODID:-//Tukios.com/
BEGIN:VEVENT
UID:86e236b0-7aab-4d29-9626-82e72aa7870e@www.memorialutah.com
DTSTAMP:20260421T085427Z
DTSTART:20260218T190000Z
DTEND:20260218T200000Z
SUMMARY:Funeral Service
DESCRIPTION:
URL:https://www.memorialutah.com/obituaries/kristine-karren
LOCATION:The Church of Jesus Christ of Latter-day Saints 2125 East 
	Evergreen Avenue  Millcreek UT 84109
GEO:40.6972327;-111.8311444
END:VEVENT
END:VCALENDAR