BEGIN:VCALENDAR
VERSION:2.0
PRODID:-//Tukios.com/
BEGIN:VEVENT
UID:72aa0cc7-34ac-44c5-8b0d-79d238263f01@www.memorialutah.com
DTSTAMP:20260424T210605Z
DTSTART:20260501T170000Z
DTEND:20260501T180000Z
SUMMARY:Funeral Service
DESCRIPTION:
URL:https://www.memorialutah.com/obituaries/larry-otteson
LOCATION:3745 S. 6400 W. 3745 South 6400 West  West Valley City UT 84128
GEO:40.6906186;-112.0432676
END:VEVENT
END:VCALENDAR