BEGIN:VCALENDAR
VERSION:2.0
PRODID:-//Tukios.com/
BEGIN:VEVENT
UID:5f0b085b-9589-4b33-b70a-43389c301b3a@www.memorialutah.com
DTSTAMP:20260424T211103Z
DTSTART:20260501T153000Z
DTEND:20260501T164500Z
SUMMARY:Viewing
DESCRIPTION:
URL:https://www.memorialutah.com/obituaries/larry-otteson
LOCATION:3745 S. 6400 W. 3745 South 6400 West  West Valley City UT 84128
GEO:40.6906186;-112.0432676
END:VEVENT
END:VCALENDAR