BEGIN:VCALENDAR
VERSION:2.0
PRODID:-//Tukios.com/
BEGIN:VEVENT
UID:9c9370db-09f6-45e7-b585-23c594f80fe7@www.memorialutah.com
DTSTAMP:20260424T210919Z
DTSTART:20260501T000000Z
DTEND:20260501T020000Z
SUMMARY:Viewing
DESCRIPTION:
URL:https://www.memorialutah.com/obituaries/larry-otteson
LOCATION:3745 S. 6400 W. 3745 South 6400 West  West Valley City UT 84128
GEO:40.6906186;-112.0432676
END:VEVENT
END:VCALENDAR