BEGIN:VCALENDAR
VERSION:2.0
PRODID:-//Tukios.com/
BEGIN:VEVENT
UID:b4ab695d-60d6-4fed-91a7-c43ea78e165e@www.memorialutah.com
DTSTAMP:20260421T010753Z
DTSTART:20260423T180000Z
DTEND:20260423T194500Z
SUMMARY:Viewing
DESCRIPTION:Viewing and visitation followed by a family prayer and 
	funeral services.
URL:https://www.memorialutah.com/obituaries/leslee-simpson
LOCATION: 6500 S Redwood Rd  West Jordan UT 84084
GEO:40.6328849;-111.9400925
END:VEVENT
END:VCALENDAR