BEGIN:VCALENDAR
VERSION:2.0
PRODID:-//Tukios.com/
BEGIN:VEVENT
UID:570f17be-7390-4605-84bf-8aea7f783305@www.memorialutah.com
DTSTAMP:20260421T010854Z
DTSTART:20260423T200000Z
DTEND:20260423T210000Z
SUMMARY:Funeral Service
DESCRIPTION:Funeral Services for Leslee Simpson
URL:https://www.memorialutah.com/obituaries/leslee-simpson
LOCATION: 6500 S Redwood Rd  West Jordan UT 84123
GEO:40.6328849;-111.9400925
END:VEVENT
END:VCALENDAR