BEGIN:VCALENDAR
VERSION:2.0
PRODID:-//Tukios.com/
BEGIN:VEVENT
UID:98c6d204-2ef8-4123-bee7-34ef4b46cdcc@www.memorialutah.com
DTSTAMP:20260423T181330Z
DTSTART:20260502T170000Z
DTEND:20260502T180000Z
SUMMARY:Memorial Service
DESCRIPTION:
URL:https://www.memorialutah.com/obituaries/margaret-boyle
LOCATION: 4395 S Albright Dr  Holladay UT 84124
GEO:40.6760127;-111.8305196
END:VEVENT
END:VCALENDAR