BEGIN:VCALENDAR
VERSION:2.0
PRODID:-//Tukios.com/
BEGIN:VEVENT
UID:cb077aa6-a3c7-4131-83f6-c7ef3e458f53@www.memorialutah.com
DTSTAMP:20260421T010732Z
DTSTART:20260424T000000Z
DTEND:20260424T020000Z
SUMMARY:Viewing
DESCRIPTION:
URL:https://www.memorialutah.com/obituaries/merlyn-fowler
LOCATION:Syracuse 2nd Ward Chapel 2228 South 1660 West  Syracuse UT 84075
GEO:41.0814923;-112.0585722
END:VEVENT
END:VCALENDAR