BEGIN:VCALENDAR
VERSION:2.0
PRODID:-//Tukios.com/
BEGIN:VEVENT
UID:59999ac0-b8c3-4fee-a6ec-a3e376d1174d@www.memorialutah.com
DTSTAMP:20260421T010555Z
DTSTART:20260424T153000Z
DTEND:20260424T163000Z
SUMMARY:Viewing
DESCRIPTION:
URL:https://www.memorialutah.com/obituaries/merlyn-fowler
LOCATION:Syracuse 2nd Ward Chapel 2228 South 1660 West  Syracuse UT 84075
GEO:41.0814929;-112.0583535
END:VEVENT
END:VCALENDAR