BEGIN:VCALENDAR
VERSION:2.0
PRODID:-//Tukios.com/
BEGIN:VEVENT
UID:52efc55a-0cb4-4e63-b621-cb47334d1d28@www.memorialutah.com
DTSTAMP:20260421T010259Z
DTSTART:20260424T170000Z
DTEND:20260424T180000Z
SUMMARY:Funeral Service
DESCRIPTION:
URL:https://www.memorialutah.com/obituaries/merlyn-fowler
LOCATION:Syracuse 2nd Ward Chapel 2228 South 1660 West  Syracuse UT 84075
GEO:41.0814929;-112.0583535
END:VEVENT
END:VCALENDAR