BEGIN:VCALENDAR
VERSION:2.0
PRODID:-//Tukios.com/
BEGIN:VEVENT
UID:355cc56f-ef06-4c3b-a3d4-a1741174d380@www.memorialutah.com
DTSTAMP:20260425T203635Z
DTSTART:20260427T150000Z
DTEND:20260427T164500Z
SUMMARY:Viewing
DESCRIPTION:
URL:https://www.memorialutah.com/obituaries/rebecca-orona
LOCATION: 4670 S Highland Dr  Holladay UT 84117
GEO:40.668753;-111.8402347
END:VEVENT
END:VCALENDAR