BEGIN:VCALENDAR
VERSION:2.0
PRODID:-//Tukios.com/
BEGIN:VEVENT
UID:b5082ecf-9e56-458d-a740-80bd2617435f@www.memorialutah.com
DTSTAMP:20260425T203922Z
DTSTART:20260427T170000Z
DTEND:20260427T180000Z
SUMMARY:Funeral Service
DESCRIPTION:
URL:https://www.memorialutah.com/obituaries/rebecca-orona
LOCATION: 4670 S Highland Dr  Holladay UT 84117
GEO:40.668753;-111.8402347
END:VEVENT
END:VCALENDAR