BEGIN:VCALENDAR
VERSION:2.0
PRODID:-//Tukios.com/
BEGIN:VEVENT
UID:f520bba3-1099-4a5a-ae37-e977e2f6e4de@www.memorialutah.com
DTSTAMP:20260421T010554Z
DTSTART:20260424T150000Z
DTEND:20260424T154500Z
SUMMARY:Viewing
DESCRIPTION:
URL:https://www.memorialutah.com/obituaries/rhonda-parker
LOCATION: 6500 South Redwood Road  West Jordan UT 84123
GEO:40.6328552;-111.9402234
END:VEVENT
END:VCALENDAR