BEGIN:VCALENDAR
VERSION:2.0
PRODID:-//Tukios.com/
BEGIN:VEVENT
UID:3e85b41f-ce96-4bc9-ad3d-90b1bab0ea13@www.memorialutah.com
DTSTAMP:20260421T010335Z
DTSTART:20260424T160000Z
DTEND:20260424T170000Z
SUMMARY:Funeral Service
DESCRIPTION:
URL:https://www.memorialutah.com/obituaries/rhonda-parker
LOCATION: 6500 South Redwood Road  West Jordan UT 84123
GEO:40.6328552;-111.9402234
END:VEVENT
END:VCALENDAR