BEGIN:VCALENDAR
VERSION:2.0
PRODID:-//Tukios.com/
BEGIN:VEVENT
UID:51d2cee9-2771-4d2c-a3cc-e9cf82db6a57@www.memorialutah.com
DTSTAMP:20260422T090737Z
DTSTART:20260227T010000Z
DTEND:20260227T040000Z
SUMMARY:Viewing
DESCRIPTION:
URL:https://www.memorialutah.com/obituaries/xavier-cruz-saucedo
LOCATION: 5850 S 900 E  Murray UT 84121
GEO:40.6450796;-111.8670841
END:VEVENT
END:VCALENDAR